BEGIN:VCALENDAR
VERSION:2.0
PRODID:-//pretix//fachschaften.org_Tix//
BEGIN:VTIMEZONE
TZID:Europe/Berlin
BEGIN:STANDARD
DTSTART:20001029T040000
RRULE:FREQ=YEARLY;BYDAY=-1SU;BYMONTH=10
TZNAME:CET
TZOFFSETFROM:+0200
TZOFFSETTO:+0100
END:STANDARD
BEGIN:DAYLIGHT
DTSTART:20000326T030000
RRULE:FREQ=YEARLY;BYDAY=-1SU;BYMONTH=3
TZNAME:CEST
TZOFFSETFROM:+0100
TZOFFSETTO:+0200
END:DAYLIGHT
END:VTIMEZONE
BEGIN:VEVENT
UID:pretix-tudo-cs-sose24team-0@tix.oh14.de
DTSTART;TZID=Europe/Berlin:20240402T090000
DTEND;TZID=Europe/Berlin:20240405T150000
DESCRIPTION:Tickets: https://tix.oh14.de/sose24team/\nOrganizer: Fachschaft
  Informatik der TU Dortmund
DTSTAMP:20260424T182013Z
LOCATION:OH14
SUMMARY:Sign-Up for the Orientation Phase SoSe 2024
END:VEVENT
END:VCALENDAR
